BEGIN:VCALENDAR
VERSION:2.0
PRODID:-//Delta Sigma Theta Sorority, Inc. - ECPv6.13.2.1//NONSGML v1.0//EN
CALSCALE:GREGORIAN
METHOD:PUBLISH
X-ORIGINAL-URL:https://www.svadst.com
X-WR-CALDESC:Events for Delta Sigma Theta Sorority, Inc.
REFRESH-INTERVAL;VALUE=DURATION:PT1H
X-Robots-Tag:noindex
X-PUBLISHED-TTL:PT1H
BEGIN:VTIMEZONE
TZID:UTC
BEGIN:STANDARD
TZOFFSETFROM:+0000
TZOFFSETTO:+0000
TZNAME:UTC
DTSTART:20260101T000000
END:STANDARD
END:VTIMEZONE
BEGIN:VEVENT
DTSTART;TZID=UTC:20260311T190000
DTEND;TZID=UTC:20260311T203000
DTSTAMP:20260425T032416
CREATED:20260304T171637Z
LAST-MODIFIED:20260304T171637Z
UID:5253-1773255600-1773261000@www.svadst.com
SUMMARY:Keys to Homeownership Webinar
DESCRIPTION:Please join the Solano Valley Alumnae Chapter in the Keys to Homeownership Webinar. An evening of understanding credit\, mortgages.\, and buying power. \nZoom Meeting ID : 948 8147 7375    |     Passcode : 815085 \n 
URL:https://www.svadst.com/event/keys-to-homeownership-webinar/
LOCATION:CA
END:VEVENT
END:VCALENDAR