BEGIN:VCALENDAR
VERSION:2.0
PRODID:-//Delta Sigma Theta Sorority, Inc. - ECPv6.13.2.1//NONSGML v1.0//EN
CALSCALE:GREGORIAN
METHOD:PUBLISH
X-ORIGINAL-URL:https://www.svadst.com
X-WR-CALDESC:Events for Delta Sigma Theta Sorority, Inc.
REFRESH-INTERVAL;VALUE=DURATION:PT1H
X-Robots-Tag:noindex
X-PUBLISHED-TTL:PT1H
BEGIN:VTIMEZONE
TZID:UTC
BEGIN:STANDARD
TZOFFSETFROM:+0000
TZOFFSETTO:+0000
TZNAME:UTC
DTSTART:20260101T000000
END:STANDARD
END:VTIMEZONE
BEGIN:VEVENT
DTSTART;TZID=UTC:20260418T100000
DTEND;TZID=UTC:20260418T120000
DTSTAMP:20260425T141002
CREATED:20260320T002427Z
LAST-MODIFIED:20260320T002450Z
UID:5264-1776506400-1776513600@www.svadst.com
SUMMARY:End of Life 101 Discussion Series
DESCRIPTION:Join us in a safe space to discuss your life insurance needs with a Certified Life Insurance Agent – FREE event!\nApril 18th\, 2026\n10am-12pm\nDixon United Methodist Church\n209 Jefferson St.\,\nDixon\, CA 95620 \nWant to reserve a spot ? https://svadstendoflifeseries101.eventbrite.com/
URL:https://www.svadst.com/event/end-of-life-101-discussion-series/
LOCATION:Dixon United Methodist Church\, 209 Jefferson St.\, Dixon\, CA\, 95620\, United States
END:VEVENT
BEGIN:VEVENT
DTSTART;TZID=UTC:20260425T120000
DTEND;TZID=UTC:20260425T140000
DTSTAMP:20260425T141002
CREATED:20260320T003552Z
LAST-MODIFIED:20260320T003628Z
UID:5272-1777118400-1777125600@www.svadst.com
SUMMARY:Xanthia Warren Scholarship Luncheon
DESCRIPTION:Embarking a New Journey : Celebrating/Honoring Young Women🌟 \nThe Xanthia Warren Scholarship proudly invites you to join us for our annual luncheon as we celebrate and uplift the next generation of scholars. 🎓 \nLooking to purchase a ticket ? https://www.zeffy.com/en-US/ticketing/annual-scholarship-luncheon-2
URL:https://www.svadst.com/event/xanthia-warren-scholarship-luncheon/
LOCATION:Paradise Valley Estates\, 2600 Estates Dr.\, Fairfield\, CA\, 94533\, United States
END:VEVENT
END:VCALENDAR