BEGIN:VCALENDAR
VERSION:2.0
PRODID:-//Delta Sigma Theta Sorority, Inc. - ECPv6.13.2.1//NONSGML v1.0//EN
CALSCALE:GREGORIAN
METHOD:PUBLISH
X-WR-CALNAME:Delta Sigma Theta Sorority, Inc.
X-ORIGINAL-URL:https://www.svadst.com
X-WR-CALDESC:Events for Delta Sigma Theta Sorority, Inc.
REFRESH-INTERVAL;VALUE=DURATION:PT1H
X-Robots-Tag:noindex
X-PUBLISHED-TTL:PT1H
BEGIN:VTIMEZONE
TZID:UTC
BEGIN:STANDARD
TZOFFSETFROM:+0000
TZOFFSETTO:+0000
TZNAME:UTC
DTSTART:20250101T000000
END:STANDARD
END:VTIMEZONE
BEGIN:VEVENT
DTSTART;TZID=UTC:20251116T080000
DTEND;TZID=UTC:20260201T170000
DTSTAMP:20260425T113242
CREATED:20251116T015621Z
LAST-MODIFIED:20251116T021231Z
UID:5201-1763280000-1769965200@www.svadst.com
SUMMARY:Delta GEMS 2026 Registration
DESCRIPTION:Coming Soon January 2026 \nRegister Now at : \nhttps://docs.google.com/forms/d/e/1FAIpQLSeVoLuy4lfes9h0_4vfi3-EOCCtsIP9k50amN7ZeEWhGvgDyw/viewform
URL:https://www.svadst.com/event/delta-g-e-m-s-2026-registration/
LOCATION:CA
END:VEVENT
BEGIN:VEVENT
DTSTART;TZID=UTC:20251213T130000
DTEND;TZID=UTC:20251213T150000
DTSTAMP:20260425T113242
CREATED:20251104T171645Z
LAST-MODIFIED:20251104T171645Z
UID:5138-1765630800-1765638000@www.svadst.com
SUMMARY:Student Game Day
DESCRIPTION:🎮🍕 STUDENT GAME DAY ALERT! 🍕🎮\nGet ready for an afternoon of games\, prizes\, and pizza at our Student Game Day — hosted by the Solano Valley Alumnae Chapter of Delta Sigma Theta Sorority\, Inc. 🎉 \n📅 Saturday\, December 13\, 2025\n 🕐 1:00 PM – 3:00 PM\n 📍 205 E. Atlantic Ave\, Fairfield\, CA 94533 \nOpen to middle and high school students from FSUSD\, VUSD\, RVUSD\, DUSD & TUSD! Come connect\, compete\, and celebrate with your friends! 🙌 \n🎯 Don’t miss out — register today using the QR code on the flyer! \n#StudentGameDay #DeltaSigmaTheta #SolanoValleyAlumnae #YouthEmpowerment #FunWithPurpose #GamesPizzaPrizes
URL:https://www.svadst.com/event/student-game-day/
LOCATION:CA
END:VEVENT
BEGIN:VEVENT
DTSTART;TZID=UTC:20251220T090000
DTEND;TZID=UTC:20251220T120000
DTSTAMP:20260425T113242
CREATED:20251116T015248Z
LAST-MODIFIED:20251116T015248Z
UID:5199-1766221200-1766232000@www.svadst.com
SUMMARY:Holiday Reclamation Brunch
DESCRIPTION:
URL:https://www.svadst.com/event/holiday-reclamation-brunch/
LOCATION:CA
END:VEVENT
BEGIN:VEVENT
DTSTART;TZID=UTC:20260107T190000
DTEND;TZID=UTC:20260107T203000
DTSTAMP:20260425T113242
CREATED:20260106T183324Z
LAST-MODIFIED:20260106T183324Z
UID:5221-1767812400-1767817800@www.svadst.com
SUMMARY:Credit Repair Workshop
DESCRIPTION:Start the year off right with the Solano Valley Alumnae Chapter and join us for our Credit Repair Workshop hosted by the Economic Development Committee! Better credit\, better opportunities\, better peace of mind. 2026 is the year we get intentional.  \nZOOM MEETING ID : 980 7333 1464\nPASSCODE : 980618
URL:https://www.svadst.com/event/credit-repair-workshop/
LOCATION:CA
END:VEVENT
BEGIN:VEVENT
DTSTART;TZID=UTC:20260221T180000
DTEND;TZID=UTC:20260221T210000
DTSTAMP:20260425T113242
CREATED:20260205T035457Z
LAST-MODIFIED:20260205T035457Z
UID:5246-1771696800-1771707600@www.svadst.com
SUMMARY:16th Annual Crab Feed Fundraiser
DESCRIPTION:Come support Solano Valley Alumnae Chapter at our Annual Crab Feed Fundraiser !Date: Saturday 2/21/2026\nTime: Event 6pm – 9pm\nLocation: BayNorth Church of Christ\n2100 Pennsylvania Ave\, Fairfield\, CA 94533\nPrice: $85 for in person and pick-up (drive through)
URL:https://www.svadst.com/event/16th-annual-crab-feed-fundraiser/
LOCATION:BayNorth Church of Christ\, 2100 Pennsylvania Ave\, Fairfield\, CA\, 94533\, United States
END:VEVENT
BEGIN:VEVENT
DTSTART;TZID=UTC:20260311T190000
DTEND;TZID=UTC:20260311T203000
DTSTAMP:20260425T113242
CREATED:20260304T171637Z
LAST-MODIFIED:20260304T171637Z
UID:5253-1773255600-1773261000@www.svadst.com
SUMMARY:Keys to Homeownership Webinar
DESCRIPTION:Please join the Solano Valley Alumnae Chapter in the Keys to Homeownership Webinar. An evening of understanding credit\, mortgages.\, and buying power. \nZoom Meeting ID : 948 8147 7375    |     Passcode : 815085 \n 
URL:https://www.svadst.com/event/keys-to-homeownership-webinar/
LOCATION:CA
END:VEVENT
BEGIN:VEVENT
DTSTART;TZID=UTC:20260418T100000
DTEND;TZID=UTC:20260418T120000
DTSTAMP:20260425T113242
CREATED:20260320T002427Z
LAST-MODIFIED:20260320T002450Z
UID:5264-1776506400-1776513600@www.svadst.com
SUMMARY:End of Life 101 Discussion Series
DESCRIPTION:Join us in a safe space to discuss your life insurance needs with a Certified Life Insurance Agent – FREE event!\nApril 18th\, 2026\n10am-12pm\nDixon United Methodist Church\n209 Jefferson St.\,\nDixon\, CA 95620 \nWant to reserve a spot ? https://svadstendoflifeseries101.eventbrite.com/
URL:https://www.svadst.com/event/end-of-life-101-discussion-series/
LOCATION:Dixon United Methodist Church\, 209 Jefferson St.\, Dixon\, CA\, 95620\, United States
END:VEVENT
BEGIN:VEVENT
DTSTART;TZID=UTC:20260425T120000
DTEND;TZID=UTC:20260425T140000
DTSTAMP:20260425T113242
CREATED:20260320T003552Z
LAST-MODIFIED:20260320T003628Z
UID:5272-1777118400-1777125600@www.svadst.com
SUMMARY:Xanthia Warren Scholarship Luncheon
DESCRIPTION:Embarking a New Journey : Celebrating/Honoring Young Women🌟 \nThe Xanthia Warren Scholarship proudly invites you to join us for our annual luncheon as we celebrate and uplift the next generation of scholars. 🎓 \nLooking to purchase a ticket ? https://www.zeffy.com/en-US/ticketing/annual-scholarship-luncheon-2
URL:https://www.svadst.com/event/xanthia-warren-scholarship-luncheon/
LOCATION:Paradise Valley Estates\, 2600 Estates Dr.\, Fairfield\, CA\, 94533\, United States
END:VEVENT
END:VCALENDAR