BEGIN:VCALENDAR
VERSION:2.0
PRODID:-//Delta Sigma Theta Sorority, Inc. - ECPv6.13.2.1//NONSGML v1.0//EN
CALSCALE:GREGORIAN
METHOD:PUBLISH
X-WR-CALNAME:Delta Sigma Theta Sorority, Inc.
X-ORIGINAL-URL:https://www.svadst.com
X-WR-CALDESC:Events for Delta Sigma Theta Sorority, Inc.
REFRESH-INTERVAL;VALUE=DURATION:PT1H
X-Robots-Tag:noindex
X-PUBLISHED-TTL:PT1H
BEGIN:VTIMEZONE
TZID:UTC
BEGIN:STANDARD
TZOFFSETFROM:+0000
TZOFFSETTO:+0000
TZNAME:UTC
DTSTART:20240101T000000
END:STANDARD
END:VTIMEZONE
BEGIN:VTIMEZONE
TZID:America/Los_Angeles
BEGIN:DAYLIGHT
TZOFFSETFROM:-0800
TZOFFSETTO:-0700
TZNAME:PDT
DTSTART:20240310T100000
END:DAYLIGHT
BEGIN:STANDARD
TZOFFSETFROM:-0700
TZOFFSETTO:-0800
TZNAME:PST
DTSTART:20241103T090000
END:STANDARD
BEGIN:DAYLIGHT
TZOFFSETFROM:-0800
TZOFFSETTO:-0700
TZNAME:PDT
DTSTART:20250309T100000
END:DAYLIGHT
BEGIN:STANDARD
TZOFFSETFROM:-0700
TZOFFSETTO:-0800
TZNAME:PST
DTSTART:20251102T090000
END:STANDARD
END:VTIMEZONE
BEGIN:VEVENT
DTSTART;TZID=UTC:20251220T090000
DTEND;TZID=UTC:20251220T120000
DTSTAMP:20260425T113553
CREATED:20251116T015248Z
LAST-MODIFIED:20251116T015248Z
UID:5199-1766221200-1766232000@www.svadst.com
SUMMARY:Holiday Reclamation Brunch
DESCRIPTION:
URL:https://www.svadst.com/event/holiday-reclamation-brunch/
LOCATION:CA
END:VEVENT
BEGIN:VEVENT
DTSTART;TZID=UTC:20251213T130000
DTEND;TZID=UTC:20251213T150000
DTSTAMP:20260425T113553
CREATED:20251104T171645Z
LAST-MODIFIED:20251104T171645Z
UID:5138-1765630800-1765638000@www.svadst.com
SUMMARY:Student Game Day
DESCRIPTION:🎮🍕 STUDENT GAME DAY ALERT! 🍕🎮\nGet ready for an afternoon of games\, prizes\, and pizza at our Student Game Day — hosted by the Solano Valley Alumnae Chapter of Delta Sigma Theta Sorority\, Inc. 🎉 \n📅 Saturday\, December 13\, 2025\n 🕐 1:00 PM – 3:00 PM\n 📍 205 E. Atlantic Ave\, Fairfield\, CA 94533 \nOpen to middle and high school students from FSUSD\, VUSD\, RVUSD\, DUSD & TUSD! Come connect\, compete\, and celebrate with your friends! 🙌 \n🎯 Don’t miss out — register today using the QR code on the flyer! \n#StudentGameDay #DeltaSigmaTheta #SolanoValleyAlumnae #YouthEmpowerment #FunWithPurpose #GamesPizzaPrizes
URL:https://www.svadst.com/event/student-game-day/
LOCATION:CA
END:VEVENT
BEGIN:VEVENT
DTSTART;TZID=UTC:20251108T120000
DTEND;TZID=UTC:20251108T123000
DTSTAMP:20260425T113553
CREATED:20251108T185935Z
LAST-MODIFIED:20251108T185935Z
UID:5170-1762603200-1762605000@www.svadst.com
SUMMARY:Prematurity Awareness Month - Book Donation Drive
DESCRIPTION:
URL:https://www.svadst.com/event/prematurity-awareness-month-book-donation-drive/
LOCATION:Angelo Rodriguez High School\, 5000 Red Top Rd\, Fairfield\, CA\, 94534\, United States
END:VEVENT
BEGIN:VEVENT
DTSTART;TZID=UTC:20251018T120000
DTEND;TZID=UTC:20251018T150000
DTSTAMP:20260425T113553
CREATED:20251003T011310Z
LAST-MODIFIED:20251003T011417Z
UID:5087-1760788800-1760799600@www.svadst.com
SUMMARY:End of Life 101 Discussion Series - Understanding Life Insurance
DESCRIPTION:Join us in a safe space to discuss your life insurance needs with a Certified Life Insurance Agent – FREE event!\n🗓️October 18th\, 2025\n12pm-3pm\n📍Fairfield Civic Center Library\n1150 Kentucky St\,\nFairfield\, CA 94533
URL:https://www.svadst.com/event/end-of-life-101-discussion-series-understanding-life-insurance/
LOCATION:Fairfield Civic Center Library\, 1150 Kentucky St.\, Fairfield\, CA\, 94533\, United States
END:VEVENT
BEGIN:VEVENT
DTSTART;TZID=UTC:20251012T070000
DTEND;TZID=UTC:20251012T110000
DTSTAMP:20260425T113553
CREATED:20251009T011400Z
LAST-MODIFIED:20251009T011400Z
UID:5101-1760252400-1760266800@www.svadst.com
SUMMARY:Making Strides Against Breast Cancer Walk
DESCRIPTION:Join the Solano Valley Alumnae Chapter of Delta Sigma Theta Sorority INC.\, as we participate in the American Cancer Society’s Making Strides Against Breast Cancer Walk in Sacramento ! \nThis free\, non-competitive 5k walk celebrates courage\, hope and unity\, bringing communities together to end breast cancer as we know it\, for everyone. \nLet’s lace up our sneakers\, raise awareness\, and honor survivors as we walk together in sisterhood and service. \nEvent Schedule :\n7:00 AM – Gates & Festival Opens\n8:00AM – Program & Warm-Up\n8:20AM – Walk Begins\n11:00AM – Walk Concludes \nLearn more and register at Making Strides of Sacramento !
URL:https://www.svadst.com/event/making-strides-against-breast-cancer-walk/
LOCATION:Sacramento State Hornet Stadium\, 6000 J Street\, Sacramento\, CA\, 95819\, United States
END:VEVENT
BEGIN:VEVENT
DTSTART;TZID=America/Los_Angeles:20250215T180000
DTEND;TZID=America/Los_Angeles:20250215T220000
DTSTAMP:20260425T113553
CREATED:20240513T180505Z
LAST-MODIFIED:20240919T195441Z
UID:3972-1739642400-1739656800@www.svadst.com
SUMMARY:CrabFeed
DESCRIPTION:PayPal link for $90 ($93.18 with fees)\n\nhttps://www.paypal.com/ncp/payment/96CSHV2CXYYTJ\n\n\n \nPayPal link for $80 ($82.88 with fees)\nhttps://www.paypal.com/ncp/payment/D7ZMKPLMUFWV2
URL:https://www.svadst.com/event/crabfeed/
LOCATION:CA
END:VEVENT
BEGIN:VEVENT
DTSTART;TZID=UTC:20241207T110000
DTEND;TZID=UTC:20241207T130000
DTSTAMP:20260425T113553
CREATED:20240928T194622Z
LAST-MODIFIED:20240928T194622Z
UID:4120-1733569200-1733576400@www.svadst.com
SUMMARY:Solano Valley Alumnae Food Bank Community Service
DESCRIPTION:Delta Sigma Theta’s participation in helping with food insecurities in Solano County continues. Please come out and join us as we volunteer at the Food Bank of Contra Costa and Solano. \n\nPlease wear your paraphernalia (Sorors)\nNo open-toed shoes\nMasks are optional but suggested\n\n  \nAddress: \n2370 N Watney Way\nFairfield\, CA 94533 \n  \nPlease call Tamara Lee Moore-Ward if you have any questions at 510-697-3540
URL:https://www.svadst.com/event/solano-valley-alumnae-food-bank-community-service-3/
LOCATION:Food Bank\, 2370 N Watney Way\,\, Fairfield\, CA\, 94533\, United States
END:VEVENT
BEGIN:VEVENT
DTSTART;TZID=UTC:20241102T110000
DTEND;TZID=UTC:20241102T130000
DTSTAMP:20260425T113553
CREATED:20240928T194407Z
LAST-MODIFIED:20240928T194407Z
UID:4117-1730545200-1730552400@www.svadst.com
SUMMARY:Solano Valley Alumnae Food Bank Community Service
DESCRIPTION:Delta Sigma Theta’s participation in helping with food insecurities in Solano County continues. Please come out and join us as we volunteer at the Food Bank of Contra Costa and Solano. \n\nPlease wear your paraphernalia (Sorors)\nNo open-toed shoes\nMasks are optional but suggested\n\n  \nAddress: \n2370 N Watney Way\nFairfield\, CA 94533 \n  \nPlease call Tamara Lee Moore-Ward if you have any questions at 510-697-3540 \n 
URL:https://www.svadst.com/event/solano-valley-alumnae-food-bank-community-service-2/
LOCATION:Food Bank\, 2370 N Watney Way\,\, Fairfield\, CA\, 94533\, United States
END:VEVENT
BEGIN:VEVENT
DTSTART;VALUE=DATE:20241015
DTEND;VALUE=DATE:20241208
DTSTAMP:20260425T113553
CREATED:20241015T213252Z
LAST-MODIFIED:20241015T213252Z
UID:4157-1728950400-1733615999@www.svadst.com
SUMMARY:Black Expressions Fundraiser
DESCRIPTION:
URL:https://www.svadst.com/event/black-expressions-fundraiser/
LOCATION:CA
END:VEVENT
BEGIN:VEVENT
DTSTART;TZID=UTC:20241005T110000
DTEND;TZID=UTC:20241005T130000
DTSTAMP:20260425T113553
CREATED:20240928T194142Z
LAST-MODIFIED:20240928T194434Z
UID:4115-1728126000-1728133200@www.svadst.com
SUMMARY:Solano Valley Alumnae Food Bank Community Service
DESCRIPTION:Delta Sigma Theta’s participation in helping with food insecurities in Solano County continues. Please come out and join us as we volunteer at the Food Bank of Contra Costa and Solano. \n\nPlease wear your paraphernalia (Sorors)\nNo open-toed shoes\nMasks are optional but suggested\n\nAddress: \n2370 N Watney Way\nFairfield\, CA 94533 \n  \nPlease call Tamara Lee Moore-Ward if you have any questions at 510-697-3540
URL:https://www.svadst.com/event/solano-valley-alumnae-food-bank-community-service/
LOCATION:Food Bank\, 2370 N Watney Way\,\, Fairfield\, CA\, 94533\, United States
END:VEVENT
BEGIN:VEVENT
DTSTART;VALUE=DATE:20241001
DTEND;VALUE=DATE:20241101
DTSTAMP:20260425T113553
CREATED:20241008T024851Z
LAST-MODIFIED:20241008T024851Z
UID:4145-1727740800-1730419199@www.svadst.com
SUMMARY:Hundred X Fundraiser
DESCRIPTION:We’re thrilled to share some exciting news! This year\, we are joining forces with HundredX to offer our community a brand-new way to support the Solano Valley Alumnae Chapter of Delta Sigma Theta Sorority\, Incorporated—all at no cost to you. Here’s how it works:\n\nStarting from October 1\, 2024\, until November 6\, 2024\, every time you provide feedback on a brand or business through HundredX\, you will earn $1.60 for each response. This means you can personally contribute $120.00 to our mission by sharing 75 thoughtful opinions!\n\nWith your help\, we aim to raise $20\,000\, which will help support several high school seniors in Solano Valley on their college journeys in Fall 2025\, along with other chapter programs such as voter registration\, first-time homebuyer seminars\, youth programs\, candidate forums\, economic development initiatives\, and much more!\n\nRemember\, you can submit up to 75 feedback responses from October 1\, 2024\, to November 6\, 2024. For every 25 surveys you complete\, you’ll be entered into a raffle for a chance to win a $100.00 gift card or a crab feed ticket valued at $90.00. Completing all 75 surveys gives you three (3) chances to win.
URL:https://www.svadst.com/event/hundred-x-fundraiser/
LOCATION:CA
END:VEVENT
BEGIN:VEVENT
DTSTART;TZID=UTC:20240928T100000
DTEND;TZID=UTC:20240928T123000
DTSTAMP:20260425T113553
CREATED:20240728T012910Z
LAST-MODIFIED:20240909T180935Z
UID:4014-1727517600-1727526600@www.svadst.com
SUMMARY:End of Life Decisions
DESCRIPTION:
URL:https://www.svadst.com/event/end-of-life-decisions/
LOCATION:St. Stephen CME Church\, 2301 Union Avenue\, Fairfield\, California\, 94533
END:VEVENT
BEGIN:VEVENT
DTSTART;TZID=America/Los_Angeles:20240921T150000
DTEND;TZID=America/Los_Angeles:20240921T200000
DTSTAMP:20260425T113553
CREATED:20240513T175813Z
LAST-MODIFIED:20240825T010901Z
UID:3966-1726930800-1726948800@www.svadst.com
SUMMARY:Sickle Cell Benefit
DESCRIPTION:
URL:https://www.svadst.com/event/sickle-cell-benefit/
LOCATION:Joseph A. Nelson Community Center\, 611 Village Drive\, Suisun City\, CA\, 94585\, United States
END:VEVENT
BEGIN:VEVENT
DTSTART;TZID=UTC:20240910T170000
DTEND;TZID=UTC:20240910T170000
DTSTAMP:20260425T113553
CREATED:20240902T150707Z
LAST-MODIFIED:20240902T201412Z
UID:4025-1725987600-1725987600@www.svadst.com
SUMMARY:2024 Presidential Election Debate Watch Party
DESCRIPTION:
URL:https://www.svadst.com/event/2024-presidential-election-debate-watch-party/
LOCATION:Angelo Rodriguez High School\, 5000 Red Top Rd\, Fairfield\, CA\, 94534\, United States
END:VEVENT
BEGIN:VEVENT
DTSTART;TZID=UTC:20240907T110000
DTEND;TZID=UTC:20240907T130000
DTSTAMP:20260425T113553
CREATED:20240531T134926Z
LAST-MODIFIED:20240531T134926Z
UID:3992-1725706800-1725714000@www.svadst.com
SUMMARY:Community Service: Contra Costa/Solano Food Bank
DESCRIPTION:
URL:https://www.svadst.com/event/community-service-contra-costa-solano-food-bank-2/
LOCATION:Food Bank\, 2370 N Watney Way\,\, Fairfield\, CA\, 94533\, United States
END:VEVENT
BEGIN:VEVENT
DTSTART;TZID=America/Los_Angeles:20240606T080000
DTEND;TZID=America/Los_Angeles:20240610T170000
DTSTAMP:20260425T113554
CREATED:20240513T180642Z
LAST-MODIFIED:20240513T180642Z
UID:3976-1717660800-1718038800@www.svadst.com
SUMMARY:Let's Get it Poppin'
DESCRIPTION:
URL:https://www.svadst.com/event/lets-get-it-poppin/
LOCATION:CA
END:VEVENT
BEGIN:VEVENT
DTSTART;TZID=UTC:20240601T110000
DTEND;TZID=UTC:20240601T130000
DTSTAMP:20260425T113554
CREATED:20240531T134613Z
LAST-MODIFIED:20240531T135417Z
UID:3989-1717239600-1717246800@www.svadst.com
SUMMARY:Community Service: Contra Costa/Solano Food Bank
DESCRIPTION:
URL:https://www.svadst.com/event/community-service-contra-costa-solano-food-bank/
LOCATION:Food Bank\, 2370 N Watney Way\,\, Fairfield\, CA\, 94533\, United States
END:VEVENT
BEGIN:VEVENT
DTSTART;TZID=America/Los_Angeles:20240518T100000
DTEND;TZID=America/Los_Angeles:20240518T120000
DTSTAMP:20260425T113554
CREATED:20240513T180109Z
LAST-MODIFIED:20240513T180109Z
UID:3968-1716026400-1716033600@www.svadst.com
SUMMARY:Legal Forum: End of Life Decisions
DESCRIPTION:
URL:https://www.svadst.com/event/legal-forum-end-of-life-decisions/
LOCATION:First Baptist Church of Vacaville\, 1127 Davis Street\, Vacaville\, CA\, 95687\, United States
END:VEVENT
END:VCALENDAR